BEGIN:VCALENDAR
VERSION:2.0
PRODID:-//The Gathering WebChurch - ECPv6.15.20//NONSGML v1.0//EN
CALSCALE:GREGORIAN
METHOD:PUBLISH
X-WR-CALNAME:The Gathering WebChurch
X-ORIGINAL-URL:https://thegatheringwebchurch.com
X-WR-CALDESC:Events for The Gathering WebChurch
REFRESH-INTERVAL;VALUE=DURATION:PT1H
X-Robots-Tag:noindex
X-PUBLISHED-TTL:PT1H
BEGIN:VTIMEZONE
TZID:UTC
BEGIN:STANDARD
TZOFFSETFROM:+0000
TZOFFSETTO:+0000
TZNAME:UTC
DTSTART:20250101T000000
END:STANDARD
END:VTIMEZONE
BEGIN:VEVENT
DTSTART;TZID=UTC:20260424T063000
DTEND;TZID=UTC:20260424T073000
DTSTAMP:20260423T140306
CREATED:20251229T203127Z
LAST-MODIFIED:20251229T203127Z
UID:10004331-1777012200-1777015800@thegatheringwebchurch.com
SUMMARY:Morning Prayer Call
DESCRIPTION:Morning Prayer Call (praying for America and World Events)\nJoin us every weekday morning 6:30 – 7:00 A.M.\n\nThe Gathering is inviting you to a scheduled Zoom meeting.\n\nJul 1\, 2025 06:30 AM Eastern Time (US and Canada)\nUntil Dec 31\, 2025\,\nhttps://us02web.zoom.us/j/89524281717?pwd=qvabULXYBFVKT9cFZy7sCFEDgf1Vp1.1\nMeeting ID: 895 2428 1717\nPasscode: 982314\nOne tap mobile\n+13052241968\,\,89524281717#\,\,\,\,*982314# US\n+16465588656\,\,89524281717#\,\,\,\,*982314# US (New York)
URL:https://thegatheringwebchurch.com/event/morning-prayer-call-4/2026-04-24/
END:VEVENT
BEGIN:VEVENT
DTSTART;TZID=UTC:20260424T063000
DTEND;TZID=UTC:20260424T073000
DTSTAMP:20260423T140306
CREATED:20260202T034629Z
LAST-MODIFIED:20260202T034630Z
UID:10004591-1777012200-1777015800@thegatheringwebchurch.com
SUMMARY:Morning Prayer Call
DESCRIPTION:Morning Prayer Call (praying for America and World Events)\nThe morning prayer call continues on February 2nd\nEvery weekday morning\, 6:30 – 7:00. Via Zoom.\nIf you have an interest in joining the morning prayer call\, contact: rjh2947@sbcglobal.net
URL:https://thegatheringwebchurch.com/event/morning-prayer-call-3-2-2/2026-04-24/
END:VEVENT
BEGIN:VEVENT
DTSTART;TZID=UTC:20260427T063000
DTEND;TZID=UTC:20260427T073000
DTSTAMP:20260423T140306
CREATED:20251229T203127Z
LAST-MODIFIED:20251229T203127Z
UID:10004332-1777271400-1777275000@thegatheringwebchurch.com
SUMMARY:Morning Prayer Call
DESCRIPTION:Morning Prayer Call (praying for America and World Events)\nJoin us every weekday morning 6:30 – 7:00 A.M.\n\nThe Gathering is inviting you to a scheduled Zoom meeting.\n\nJul 1\, 2025 06:30 AM Eastern Time (US and Canada)\nUntil Dec 31\, 2025\,\nhttps://us02web.zoom.us/j/89524281717?pwd=qvabULXYBFVKT9cFZy7sCFEDgf1Vp1.1\nMeeting ID: 895 2428 1717\nPasscode: 982314\nOne tap mobile\n+13052241968\,\,89524281717#\,\,\,\,*982314# US\n+16465588656\,\,89524281717#\,\,\,\,*982314# US (New York)
URL:https://thegatheringwebchurch.com/event/morning-prayer-call-4/2026-04-27/
END:VEVENT
BEGIN:VEVENT
DTSTART;TZID=UTC:20260427T063000
DTEND;TZID=UTC:20260427T073000
DTSTAMP:20260423T140306
CREATED:20260202T034629Z
LAST-MODIFIED:20260202T034630Z
UID:10004592-1777271400-1777275000@thegatheringwebchurch.com
SUMMARY:Morning Prayer Call
DESCRIPTION:Morning Prayer Call (praying for America and World Events)\nThe morning prayer call continues on February 2nd\nEvery weekday morning\, 6:30 – 7:00. Via Zoom.\nIf you have an interest in joining the morning prayer call\, contact: rjh2947@sbcglobal.net
URL:https://thegatheringwebchurch.com/event/morning-prayer-call-3-2-2/2026-04-27/
END:VEVENT
BEGIN:VEVENT
DTSTART;TZID=UTC:20260428T063000
DTEND;TZID=UTC:20260428T073000
DTSTAMP:20260423T140306
CREATED:20251229T203127Z
LAST-MODIFIED:20251229T203127Z
UID:10004333-1777357800-1777361400@thegatheringwebchurch.com
SUMMARY:Morning Prayer Call
DESCRIPTION:Morning Prayer Call (praying for America and World Events)\nJoin us every weekday morning 6:30 – 7:00 A.M.\n\nThe Gathering is inviting you to a scheduled Zoom meeting.\n\nJul 1\, 2025 06:30 AM Eastern Time (US and Canada)\nUntil Dec 31\, 2025\,\nhttps://us02web.zoom.us/j/89524281717?pwd=qvabULXYBFVKT9cFZy7sCFEDgf1Vp1.1\nMeeting ID: 895 2428 1717\nPasscode: 982314\nOne tap mobile\n+13052241968\,\,89524281717#\,\,\,\,*982314# US\n+16465588656\,\,89524281717#\,\,\,\,*982314# US (New York)
URL:https://thegatheringwebchurch.com/event/morning-prayer-call-4/2026-04-28/
END:VEVENT
BEGIN:VEVENT
DTSTART;TZID=UTC:20260428T063000
DTEND;TZID=UTC:20260428T073000
DTSTAMP:20260423T140306
CREATED:20260202T034629Z
LAST-MODIFIED:20260202T034630Z
UID:10004593-1777357800-1777361400@thegatheringwebchurch.com
SUMMARY:Morning Prayer Call
DESCRIPTION:Morning Prayer Call (praying for America and World Events)\nThe morning prayer call continues on February 2nd\nEvery weekday morning\, 6:30 – 7:00. Via Zoom.\nIf you have an interest in joining the morning prayer call\, contact: rjh2947@sbcglobal.net
URL:https://thegatheringwebchurch.com/event/morning-prayer-call-3-2-2/2026-04-28/
END:VEVENT
BEGIN:VEVENT
DTSTART;TZID=UTC:20260429T063000
DTEND;TZID=UTC:20260429T073000
DTSTAMP:20260423T140306
CREATED:20251229T203127Z
LAST-MODIFIED:20251229T203127Z
UID:10004334-1777444200-1777447800@thegatheringwebchurch.com
SUMMARY:Morning Prayer Call
DESCRIPTION:Morning Prayer Call (praying for America and World Events)\nJoin us every weekday morning 6:30 – 7:00 A.M.\n\nThe Gathering is inviting you to a scheduled Zoom meeting.\n\nJul 1\, 2025 06:30 AM Eastern Time (US and Canada)\nUntil Dec 31\, 2025\,\nhttps://us02web.zoom.us/j/89524281717?pwd=qvabULXYBFVKT9cFZy7sCFEDgf1Vp1.1\nMeeting ID: 895 2428 1717\nPasscode: 982314\nOne tap mobile\n+13052241968\,\,89524281717#\,\,\,\,*982314# US\n+16465588656\,\,89524281717#\,\,\,\,*982314# US (New York)
URL:https://thegatheringwebchurch.com/event/morning-prayer-call-4/2026-04-29/
END:VEVENT
BEGIN:VEVENT
DTSTART;TZID=UTC:20260429T063000
DTEND;TZID=UTC:20260429T073000
DTSTAMP:20260423T140306
CREATED:20260202T034629Z
LAST-MODIFIED:20260202T034630Z
UID:10004594-1777444200-1777447800@thegatheringwebchurch.com
SUMMARY:Morning Prayer Call
DESCRIPTION:Morning Prayer Call (praying for America and World Events)\nThe morning prayer call continues on February 2nd\nEvery weekday morning\, 6:30 – 7:00. Via Zoom.\nIf you have an interest in joining the morning prayer call\, contact: rjh2947@sbcglobal.net
URL:https://thegatheringwebchurch.com/event/morning-prayer-call-3-2-2/2026-04-29/
END:VEVENT
BEGIN:VEVENT
DTSTART;TZID=UTC:20260430T063000
DTEND;TZID=UTC:20260430T073000
DTSTAMP:20260423T140306
CREATED:20251229T203127Z
LAST-MODIFIED:20251229T203127Z
UID:10004335-1777530600-1777534200@thegatheringwebchurch.com
SUMMARY:Morning Prayer Call
DESCRIPTION:Morning Prayer Call (praying for America and World Events)\nJoin us every weekday morning 6:30 – 7:00 A.M.\n\nThe Gathering is inviting you to a scheduled Zoom meeting.\n\nJul 1\, 2025 06:30 AM Eastern Time (US and Canada)\nUntil Dec 31\, 2025\,\nhttps://us02web.zoom.us/j/89524281717?pwd=qvabULXYBFVKT9cFZy7sCFEDgf1Vp1.1\nMeeting ID: 895 2428 1717\nPasscode: 982314\nOne tap mobile\n+13052241968\,\,89524281717#\,\,\,\,*982314# US\n+16465588656\,\,89524281717#\,\,\,\,*982314# US (New York)
URL:https://thegatheringwebchurch.com/event/morning-prayer-call-4/2026-04-30/
END:VEVENT
BEGIN:VEVENT
DTSTART;TZID=UTC:20260430T063000
DTEND;TZID=UTC:20260430T073000
DTSTAMP:20260423T140306
CREATED:20260202T034629Z
LAST-MODIFIED:20260202T034630Z
UID:10004595-1777530600-1777534200@thegatheringwebchurch.com
SUMMARY:Morning Prayer Call
DESCRIPTION:Morning Prayer Call (praying for America and World Events)\nThe morning prayer call continues on February 2nd\nEvery weekday morning\, 6:30 – 7:00. Via Zoom.\nIf you have an interest in joining the morning prayer call\, contact: rjh2947@sbcglobal.net
URL:https://thegatheringwebchurch.com/event/morning-prayer-call-3-2-2/2026-04-30/
END:VEVENT
BEGIN:VEVENT
DTSTART;TZID=UTC:20260501T063000
DTEND;TZID=UTC:20260501T073000
DTSTAMP:20260423T140306
CREATED:20251229T203127Z
LAST-MODIFIED:20251229T203127Z
UID:10004336-1777617000-1777620600@thegatheringwebchurch.com
SUMMARY:Morning Prayer Call
DESCRIPTION:Morning Prayer Call (praying for America and World Events)\nJoin us every weekday morning 6:30 – 7:00 A.M.\n\nThe Gathering is inviting you to a scheduled Zoom meeting.\n\nJul 1\, 2025 06:30 AM Eastern Time (US and Canada)\nUntil Dec 31\, 2025\,\nhttps://us02web.zoom.us/j/89524281717?pwd=qvabULXYBFVKT9cFZy7sCFEDgf1Vp1.1\nMeeting ID: 895 2428 1717\nPasscode: 982314\nOne tap mobile\n+13052241968\,\,89524281717#\,\,\,\,*982314# US\n+16465588656\,\,89524281717#\,\,\,\,*982314# US (New York)
URL:https://thegatheringwebchurch.com/event/morning-prayer-call-4/2026-05-01/
END:VEVENT
BEGIN:VEVENT
DTSTART;TZID=UTC:20260501T063000
DTEND;TZID=UTC:20260501T073000
DTSTAMP:20260423T140306
CREATED:20260202T034629Z
LAST-MODIFIED:20260202T034630Z
UID:10004596-1777617000-1777620600@thegatheringwebchurch.com
SUMMARY:Morning Prayer Call
DESCRIPTION:Morning Prayer Call (praying for America and World Events)\nThe morning prayer call continues on February 2nd\nEvery weekday morning\, 6:30 – 7:00. Via Zoom.\nIf you have an interest in joining the morning prayer call\, contact: rjh2947@sbcglobal.net
URL:https://thegatheringwebchurch.com/event/morning-prayer-call-3-2-2/2026-05-01/
END:VEVENT
BEGIN:VEVENT
DTSTART;TZID=UTC:20260504T063000
DTEND;TZID=UTC:20260504T073000
DTSTAMP:20260423T140306
CREATED:20251229T203127Z
LAST-MODIFIED:20251229T203127Z
UID:10004337-1777876200-1777879800@thegatheringwebchurch.com
SUMMARY:Morning Prayer Call
DESCRIPTION:Morning Prayer Call (praying for America and World Events)\nJoin us every weekday morning 6:30 – 7:00 A.M.\n\nThe Gathering is inviting you to a scheduled Zoom meeting.\n\nJul 1\, 2025 06:30 AM Eastern Time (US and Canada)\nUntil Dec 31\, 2025\,\nhttps://us02web.zoom.us/j/89524281717?pwd=qvabULXYBFVKT9cFZy7sCFEDgf1Vp1.1\nMeeting ID: 895 2428 1717\nPasscode: 982314\nOne tap mobile\n+13052241968\,\,89524281717#\,\,\,\,*982314# US\n+16465588656\,\,89524281717#\,\,\,\,*982314# US (New York)
URL:https://thegatheringwebchurch.com/event/morning-prayer-call-4/2026-05-04/
END:VEVENT
BEGIN:VEVENT
DTSTART;TZID=UTC:20260504T063000
DTEND;TZID=UTC:20260504T073000
DTSTAMP:20260423T140306
CREATED:20260202T034629Z
LAST-MODIFIED:20260202T034630Z
UID:10004597-1777876200-1777879800@thegatheringwebchurch.com
SUMMARY:Morning Prayer Call
DESCRIPTION:Morning Prayer Call (praying for America and World Events)\nThe morning prayer call continues on February 2nd\nEvery weekday morning\, 6:30 – 7:00. Via Zoom.\nIf you have an interest in joining the morning prayer call\, contact: rjh2947@sbcglobal.net
URL:https://thegatheringwebchurch.com/event/morning-prayer-call-3-2-2/2026-05-04/
END:VEVENT
BEGIN:VEVENT
DTSTART;TZID=UTC:20260505T063000
DTEND;TZID=UTC:20260505T073000
DTSTAMP:20260423T140306
CREATED:20251229T203127Z
LAST-MODIFIED:20251229T203127Z
UID:10004338-1777962600-1777966200@thegatheringwebchurch.com
SUMMARY:Morning Prayer Call
DESCRIPTION:Morning Prayer Call (praying for America and World Events)\nJoin us every weekday morning 6:30 – 7:00 A.M.\n\nThe Gathering is inviting you to a scheduled Zoom meeting.\n\nJul 1\, 2025 06:30 AM Eastern Time (US and Canada)\nUntil Dec 31\, 2025\,\nhttps://us02web.zoom.us/j/89524281717?pwd=qvabULXYBFVKT9cFZy7sCFEDgf1Vp1.1\nMeeting ID: 895 2428 1717\nPasscode: 982314\nOne tap mobile\n+13052241968\,\,89524281717#\,\,\,\,*982314# US\n+16465588656\,\,89524281717#\,\,\,\,*982314# US (New York)
URL:https://thegatheringwebchurch.com/event/morning-prayer-call-4/2026-05-05/
END:VEVENT
BEGIN:VEVENT
DTSTART;TZID=UTC:20260505T063000
DTEND;TZID=UTC:20260505T073000
DTSTAMP:20260423T140306
CREATED:20260202T034629Z
LAST-MODIFIED:20260202T034630Z
UID:10004598-1777962600-1777966200@thegatheringwebchurch.com
SUMMARY:Morning Prayer Call
DESCRIPTION:Morning Prayer Call (praying for America and World Events)\nThe morning prayer call continues on February 2nd\nEvery weekday morning\, 6:30 – 7:00. Via Zoom.\nIf you have an interest in joining the morning prayer call\, contact: rjh2947@sbcglobal.net
URL:https://thegatheringwebchurch.com/event/morning-prayer-call-3-2-2/2026-05-05/
END:VEVENT
BEGIN:VEVENT
DTSTART;TZID=UTC:20260506T063000
DTEND;TZID=UTC:20260506T073000
DTSTAMP:20260423T140306
CREATED:20251229T203127Z
LAST-MODIFIED:20251229T203127Z
UID:10004339-1778049000-1778052600@thegatheringwebchurch.com
SUMMARY:Morning Prayer Call
DESCRIPTION:Morning Prayer Call (praying for America and World Events)\nJoin us every weekday morning 6:30 – 7:00 A.M.\n\nThe Gathering is inviting you to a scheduled Zoom meeting.\n\nJul 1\, 2025 06:30 AM Eastern Time (US and Canada)\nUntil Dec 31\, 2025\,\nhttps://us02web.zoom.us/j/89524281717?pwd=qvabULXYBFVKT9cFZy7sCFEDgf1Vp1.1\nMeeting ID: 895 2428 1717\nPasscode: 982314\nOne tap mobile\n+13052241968\,\,89524281717#\,\,\,\,*982314# US\n+16465588656\,\,89524281717#\,\,\,\,*982314# US (New York)
URL:https://thegatheringwebchurch.com/event/morning-prayer-call-4/2026-05-06/
END:VEVENT
BEGIN:VEVENT
DTSTART;TZID=UTC:20260506T063000
DTEND;TZID=UTC:20260506T073000
DTSTAMP:20260423T140306
CREATED:20260202T034629Z
LAST-MODIFIED:20260202T034630Z
UID:10004599-1778049000-1778052600@thegatheringwebchurch.com
SUMMARY:Morning Prayer Call
DESCRIPTION:Morning Prayer Call (praying for America and World Events)\nThe morning prayer call continues on February 2nd\nEvery weekday morning\, 6:30 – 7:00. Via Zoom.\nIf you have an interest in joining the morning prayer call\, contact: rjh2947@sbcglobal.net
URL:https://thegatheringwebchurch.com/event/morning-prayer-call-3-2-2/2026-05-06/
END:VEVENT
BEGIN:VEVENT
DTSTART;TZID=UTC:20260507T063000
DTEND;TZID=UTC:20260507T073000
DTSTAMP:20260423T140306
CREATED:20251229T203127Z
LAST-MODIFIED:20251229T203127Z
UID:10004340-1778135400-1778139000@thegatheringwebchurch.com
SUMMARY:Morning Prayer Call
DESCRIPTION:Morning Prayer Call (praying for America and World Events)\nJoin us every weekday morning 6:30 – 7:00 A.M.\n\nThe Gathering is inviting you to a scheduled Zoom meeting.\n\nJul 1\, 2025 06:30 AM Eastern Time (US and Canada)\nUntil Dec 31\, 2025\,\nhttps://us02web.zoom.us/j/89524281717?pwd=qvabULXYBFVKT9cFZy7sCFEDgf1Vp1.1\nMeeting ID: 895 2428 1717\nPasscode: 982314\nOne tap mobile\n+13052241968\,\,89524281717#\,\,\,\,*982314# US\n+16465588656\,\,89524281717#\,\,\,\,*982314# US (New York)
URL:https://thegatheringwebchurch.com/event/morning-prayer-call-4/2026-05-07/
END:VEVENT
BEGIN:VEVENT
DTSTART;TZID=UTC:20260507T063000
DTEND;TZID=UTC:20260507T073000
DTSTAMP:20260423T140306
CREATED:20260202T034629Z
LAST-MODIFIED:20260202T034630Z
UID:10004600-1778135400-1778139000@thegatheringwebchurch.com
SUMMARY:Morning Prayer Call
DESCRIPTION:Morning Prayer Call (praying for America and World Events)\nThe morning prayer call continues on February 2nd\nEvery weekday morning\, 6:30 – 7:00. Via Zoom.\nIf you have an interest in joining the morning prayer call\, contact: rjh2947@sbcglobal.net
URL:https://thegatheringwebchurch.com/event/morning-prayer-call-3-2-2/2026-05-07/
END:VEVENT
BEGIN:VEVENT
DTSTART;TZID=UTC:20260508T063000
DTEND;TZID=UTC:20260508T073000
DTSTAMP:20260423T140306
CREATED:20251229T203127Z
LAST-MODIFIED:20251229T203127Z
UID:10004341-1778221800-1778225400@thegatheringwebchurch.com
SUMMARY:Morning Prayer Call
DESCRIPTION:Morning Prayer Call (praying for America and World Events)\nJoin us every weekday morning 6:30 – 7:00 A.M.\n\nThe Gathering is inviting you to a scheduled Zoom meeting.\n\nJul 1\, 2025 06:30 AM Eastern Time (US and Canada)\nUntil Dec 31\, 2025\,\nhttps://us02web.zoom.us/j/89524281717?pwd=qvabULXYBFVKT9cFZy7sCFEDgf1Vp1.1\nMeeting ID: 895 2428 1717\nPasscode: 982314\nOne tap mobile\n+13052241968\,\,89524281717#\,\,\,\,*982314# US\n+16465588656\,\,89524281717#\,\,\,\,*982314# US (New York)
URL:https://thegatheringwebchurch.com/event/morning-prayer-call-4/2026-05-08/
END:VEVENT
BEGIN:VEVENT
DTSTART;TZID=UTC:20260508T063000
DTEND;TZID=UTC:20260508T073000
DTSTAMP:20260423T140306
CREATED:20260202T034629Z
LAST-MODIFIED:20260202T034630Z
UID:10004601-1778221800-1778225400@thegatheringwebchurch.com
SUMMARY:Morning Prayer Call
DESCRIPTION:Morning Prayer Call (praying for America and World Events)\nThe morning prayer call continues on February 2nd\nEvery weekday morning\, 6:30 – 7:00. Via Zoom.\nIf you have an interest in joining the morning prayer call\, contact: rjh2947@sbcglobal.net
URL:https://thegatheringwebchurch.com/event/morning-prayer-call-3-2-2/2026-05-08/
END:VEVENT
BEGIN:VEVENT
DTSTART;TZID=UTC:20260511T063000
DTEND;TZID=UTC:20260511T073000
DTSTAMP:20260423T140306
CREATED:20251229T203127Z
LAST-MODIFIED:20251229T203127Z
UID:10004342-1778481000-1778484600@thegatheringwebchurch.com
SUMMARY:Morning Prayer Call
DESCRIPTION:Morning Prayer Call (praying for America and World Events)\nJoin us every weekday morning 6:30 – 7:00 A.M.\n\nThe Gathering is inviting you to a scheduled Zoom meeting.\n\nJul 1\, 2025 06:30 AM Eastern Time (US and Canada)\nUntil Dec 31\, 2025\,\nhttps://us02web.zoom.us/j/89524281717?pwd=qvabULXYBFVKT9cFZy7sCFEDgf1Vp1.1\nMeeting ID: 895 2428 1717\nPasscode: 982314\nOne tap mobile\n+13052241968\,\,89524281717#\,\,\,\,*982314# US\n+16465588656\,\,89524281717#\,\,\,\,*982314# US (New York)
URL:https://thegatheringwebchurch.com/event/morning-prayer-call-4/2026-05-11/
END:VEVENT
BEGIN:VEVENT
DTSTART;TZID=UTC:20260511T063000
DTEND;TZID=UTC:20260511T073000
DTSTAMP:20260423T140306
CREATED:20260202T034629Z
LAST-MODIFIED:20260202T034630Z
UID:10004602-1778481000-1778484600@thegatheringwebchurch.com
SUMMARY:Morning Prayer Call
DESCRIPTION:Morning Prayer Call (praying for America and World Events)\nThe morning prayer call continues on February 2nd\nEvery weekday morning\, 6:30 – 7:00. Via Zoom.\nIf you have an interest in joining the morning prayer call\, contact: rjh2947@sbcglobal.net
URL:https://thegatheringwebchurch.com/event/morning-prayer-call-3-2-2/2026-05-11/
END:VEVENT
BEGIN:VEVENT
DTSTART;TZID=UTC:20260512T063000
DTEND;TZID=UTC:20260512T073000
DTSTAMP:20260423T140306
CREATED:20251229T203127Z
LAST-MODIFIED:20251229T203127Z
UID:10004343-1778567400-1778571000@thegatheringwebchurch.com
SUMMARY:Morning Prayer Call
DESCRIPTION:Morning Prayer Call (praying for America and World Events)\nJoin us every weekday morning 6:30 – 7:00 A.M.\n\nThe Gathering is inviting you to a scheduled Zoom meeting.\n\nJul 1\, 2025 06:30 AM Eastern Time (US and Canada)\nUntil Dec 31\, 2025\,\nhttps://us02web.zoom.us/j/89524281717?pwd=qvabULXYBFVKT9cFZy7sCFEDgf1Vp1.1\nMeeting ID: 895 2428 1717\nPasscode: 982314\nOne tap mobile\n+13052241968\,\,89524281717#\,\,\,\,*982314# US\n+16465588656\,\,89524281717#\,\,\,\,*982314# US (New York)
URL:https://thegatheringwebchurch.com/event/morning-prayer-call-4/2026-05-12/
END:VEVENT
BEGIN:VEVENT
DTSTART;TZID=UTC:20260512T063000
DTEND;TZID=UTC:20260512T073000
DTSTAMP:20260423T140306
CREATED:20260202T034629Z
LAST-MODIFIED:20260202T034630Z
UID:10004603-1778567400-1778571000@thegatheringwebchurch.com
SUMMARY:Morning Prayer Call
DESCRIPTION:Morning Prayer Call (praying for America and World Events)\nThe morning prayer call continues on February 2nd\nEvery weekday morning\, 6:30 – 7:00. Via Zoom.\nIf you have an interest in joining the morning prayer call\, contact: rjh2947@sbcglobal.net
URL:https://thegatheringwebchurch.com/event/morning-prayer-call-3-2-2/2026-05-12/
END:VEVENT
BEGIN:VEVENT
DTSTART;TZID=UTC:20260513T063000
DTEND;TZID=UTC:20260513T073000
DTSTAMP:20260423T140306
CREATED:20251229T203127Z
LAST-MODIFIED:20251229T203127Z
UID:10004344-1778653800-1778657400@thegatheringwebchurch.com
SUMMARY:Morning Prayer Call
DESCRIPTION:Morning Prayer Call (praying for America and World Events)\nJoin us every weekday morning 6:30 – 7:00 A.M.\n\nThe Gathering is inviting you to a scheduled Zoom meeting.\n\nJul 1\, 2025 06:30 AM Eastern Time (US and Canada)\nUntil Dec 31\, 2025\,\nhttps://us02web.zoom.us/j/89524281717?pwd=qvabULXYBFVKT9cFZy7sCFEDgf1Vp1.1\nMeeting ID: 895 2428 1717\nPasscode: 982314\nOne tap mobile\n+13052241968\,\,89524281717#\,\,\,\,*982314# US\n+16465588656\,\,89524281717#\,\,\,\,*982314# US (New York)
URL:https://thegatheringwebchurch.com/event/morning-prayer-call-4/2026-05-13/
END:VEVENT
BEGIN:VEVENT
DTSTART;TZID=UTC:20260513T063000
DTEND;TZID=UTC:20260513T073000
DTSTAMP:20260423T140306
CREATED:20260202T034629Z
LAST-MODIFIED:20260202T034630Z
UID:10004604-1778653800-1778657400@thegatheringwebchurch.com
SUMMARY:Morning Prayer Call
DESCRIPTION:Morning Prayer Call (praying for America and World Events)\nThe morning prayer call continues on February 2nd\nEvery weekday morning\, 6:30 – 7:00. Via Zoom.\nIf you have an interest in joining the morning prayer call\, contact: rjh2947@sbcglobal.net
URL:https://thegatheringwebchurch.com/event/morning-prayer-call-3-2-2/2026-05-13/
END:VEVENT
BEGIN:VEVENT
DTSTART;TZID=UTC:20260514T063000
DTEND;TZID=UTC:20260514T073000
DTSTAMP:20260423T140306
CREATED:20251229T203127Z
LAST-MODIFIED:20251229T203127Z
UID:10004345-1778740200-1778743800@thegatheringwebchurch.com
SUMMARY:Morning Prayer Call
DESCRIPTION:Morning Prayer Call (praying for America and World Events)\nJoin us every weekday morning 6:30 – 7:00 A.M.\n\nThe Gathering is inviting you to a scheduled Zoom meeting.\n\nJul 1\, 2025 06:30 AM Eastern Time (US and Canada)\nUntil Dec 31\, 2025\,\nhttps://us02web.zoom.us/j/89524281717?pwd=qvabULXYBFVKT9cFZy7sCFEDgf1Vp1.1\nMeeting ID: 895 2428 1717\nPasscode: 982314\nOne tap mobile\n+13052241968\,\,89524281717#\,\,\,\,*982314# US\n+16465588656\,\,89524281717#\,\,\,\,*982314# US (New York)
URL:https://thegatheringwebchurch.com/event/morning-prayer-call-4/2026-05-14/
END:VEVENT
BEGIN:VEVENT
DTSTART;TZID=UTC:20260514T063000
DTEND;TZID=UTC:20260514T073000
DTSTAMP:20260423T140306
CREATED:20260202T034629Z
LAST-MODIFIED:20260202T034630Z
UID:10004605-1778740200-1778743800@thegatheringwebchurch.com
SUMMARY:Morning Prayer Call
DESCRIPTION:Morning Prayer Call (praying for America and World Events)\nThe morning prayer call continues on February 2nd\nEvery weekday morning\, 6:30 – 7:00. Via Zoom.\nIf you have an interest in joining the morning prayer call\, contact: rjh2947@sbcglobal.net
URL:https://thegatheringwebchurch.com/event/morning-prayer-call-3-2-2/2026-05-14/
END:VEVENT
END:VCALENDAR